BEGIN:VCALENDAR
VERSION:2.0
PRODID:-//AEP - ECPv6.15.20//NONSGML v1.0//EN
CALSCALE:GREGORIAN
METHOD:PUBLISH
X-ORIGINAL-URL:https://aliancaevangelica.pt/site
X-WR-CALDESC:Eventos para AEP
REFRESH-INTERVAL;VALUE=DURATION:PT1H
X-Robots-Tag:noindex
X-PUBLISHED-TTL:PT1H
BEGIN:VTIMEZONE
TZID:UTC
BEGIN:STANDARD
TZOFFSETFROM:+0000
TZOFFSETTO:+0000
TZNAME:UTC
DTSTART:20250101T000000
END:STANDARD
END:VTIMEZONE
BEGIN:VEVENT
DTSTART;TZID=UTC:20260216T204500
DTEND;TZID=UTC:20260216T204500
DTSTAMP:20260421T081531
CREATED:20260213T123452Z
LAST-MODIFIED:20260213T123452Z
UID:21425-1771274700-1771274700@aliancaevangelica.pt
SUMMARY:Concerto Solidário | Reconstrução Monte Esperança
DESCRIPTION:
URL:https://aliancaevangelica.pt/site/eventos/concerto-solidario-reconstrucao-monte-esperanca/
ATTACH;FMTTYPE=image/jpeg:https://aliancaevangelica.pt/site/wp-content/uploads/2026/02/WhatsApp-Image-2026-02-12-at-21.11.19.jpeg
END:VEVENT
BEGIN:VEVENT
DTSTART;TZID=UTC:20260228T150000
DTEND;TZID=UTC:20260228T150000
DTSTAMP:20260421T081532
CREATED:20260306T182527Z
LAST-MODIFIED:20260306T182527Z
UID:22094-1772290800-1772290800@aliancaevangelica.pt
SUMMARY:140 Anos do Nascimento de Eduardo Moreira (1886-1980)
DESCRIPTION:140 Anos do Nascimento de Eduardo Moreira (1886-1980) \nConferência e Exposição Bibliográfica e Biográfica sobre o Rev. Eduardo Moreira \n28 de fevereiro\, 15h\, Igreja Evangélica Lisbonense – Presbiteriana
URL:https://aliancaevangelica.pt/site/eventos/140-anos-do-nascimento-de-eduardo-moreira-1886-1980/
ATTACH;FMTTYPE=image/jpeg:https://aliancaevangelica.pt/site/wp-content/uploads/2026/03/Cartao_140_Anos_EM_1.jpg
END:VEVENT
END:VCALENDAR