BEGIN:VCALENDAR
VERSION:2.0
PRODID:-//AEP - ECPv6.15.20//NONSGML v1.0//EN
CALSCALE:GREGORIAN
METHOD:PUBLISH
X-WR-CALNAME:AEP
X-ORIGINAL-URL:https://aliancaevangelica.pt/site
X-WR-CALDESC:Eventos para AEP
REFRESH-INTERVAL;VALUE=DURATION:PT1H
X-Robots-Tag:noindex
X-PUBLISHED-TTL:PT1H
BEGIN:VTIMEZONE
TZID:UTC
BEGIN:STANDARD
TZOFFSETFROM:+0000
TZOFFSETTO:+0000
TZNAME:UTC
DTSTART:20250101T000000
END:STANDARD
END:VTIMEZONE
BEGIN:VEVENT
DTSTART;VALUE=DATE:20260417
DTEND;VALUE=DATE:20260420
DTSTAMP:20260421T094256
CREATED:20260324T185717Z
LAST-MODIFIED:20260324T185717Z
UID:22128-1776384000-1776643199@aliancaevangelica.pt
SUMMARY:Congresso Nacional - Desperta Débora: O que Nos Move?
DESCRIPTION:
URL:https://aliancaevangelica.pt/site/eventos/congresso-nacional-desperta-debora-o-que-nos-move/
ATTACH;FMTTYPE=image/jpeg:https://aliancaevangelica.pt/site/wp-content/uploads/2026/03/WhatsApp-Image-2026-03-22-at-19.07.09.jpeg
END:VEVENT
BEGIN:VEVENT
DTSTART;TZID=UTC:20260418T163000
DTEND;TZID=UTC:20260418T163000
DTSTAMP:20260421T094256
CREATED:20260420T205606Z
LAST-MODIFIED:20260420T205606Z
UID:23384-1776529800-1776529800@aliancaevangelica.pt
SUMMARY:Lançamento: Pérola Quando Desistir Não é Solução
DESCRIPTION:
URL:https://aliancaevangelica.pt/site/eventos/lancamento-perola-quando-desistir-nao-e-solucao/
ATTACH;FMTTYPE=image/jpeg:https://aliancaevangelica.pt/site/wp-content/uploads/2026/04/WhatsApp-Image-2026-03-31-at-17.00.50.jpeg
END:VEVENT
END:VCALENDAR